BEGIN:VCALENDAR
VERSION:2.0
PRODID:-//l&#039;Encre Poétique - ECPv5.12.2//NONSGML v1.0//EN
CALSCALE:GREGORIAN
METHOD:PUBLISH
X-WR-CALNAME:l&#039;Encre Poétique
X-ORIGINAL-URL:http://encrepoetique.fr
X-WR-CALDESC:évènements pour l&#039;Encre Poétique
REFRESH-INTERVAL;VALUE=DURATION:PT1H
X-Robots-Tag:noindex
X-PUBLISHED-TTL:PT1H
BEGIN:VTIMEZONE
TZID:Europe/Paris
BEGIN:DAYLIGHT
TZOFFSETFROM:+0100
TZOFFSETTO:+0200
TZNAME:CEST
DTSTART:20210328T010000
END:DAYLIGHT
BEGIN:STANDARD
TZOFFSETFROM:+0200
TZOFFSETTO:+0100
TZNAME:CET
DTSTART:20211031T010000
END:STANDARD
END:VTIMEZONE
BEGIN:VEVENT
DTSTART;TZID=Europe/Paris:20211218T150000
DTEND;TZID=Europe/Paris:20211218T180000
DTSTAMP:20260420T123927
CREATED:20210819T110618Z
LAST-MODIFIED:20210819T110621Z
UID:1638-1639839600-1639850400@encrepoetique.fr
SUMMARY:Atelier Versailles 18/12/21
DESCRIPTION:Atelier mensuel de 3h ouvert à tous\, cours de peinture traditionnelle japonaise sumi-e à Versailles samedi 3e semaine de décembre 2021.Le déroulement de l’atelier est décrit dans la page Cours.Utilisez le formulaire de Contact pour vous inscrire (voir la page Contact du menu).
URL:http://encrepoetique.fr/evenement/atelier-versailles-18-12-21/
LOCATION:Atelier d’Alain\, 2T rue de Savoie\, Versailles\, 78000\, France
CATEGORIES:Cours
GEO:48.8110666;2.1252574
X-APPLE-STRUCTURED-LOCATION;VALUE=URI;X-ADDRESS=Atelier d’Alain 2T rue de Savoie Versailles 78000 France;X-APPLE-RADIUS=500;X-TITLE=2T rue de Savoie:geo:2.1252574,48.8110666
END:VEVENT
END:VCALENDAR