BEGIN:VCALENDAR
VERSION:2.0
PRODID:-//l&#039;Encre Poétique - ECPv5.12.2//NONSGML v1.0//EN
CALSCALE:GREGORIAN
METHOD:PUBLISH
X-WR-CALNAME:l&#039;Encre Poétique
X-ORIGINAL-URL:http://encrepoetique.fr
X-WR-CALDESC:évènements pour l&#039;Encre Poétique
REFRESH-INTERVAL;VALUE=DURATION:PT1H
X-Robots-Tag:noindex
X-PUBLISHED-TTL:PT1H
BEGIN:VTIMEZONE
TZID:Europe/Paris
BEGIN:DAYLIGHT
TZOFFSETFROM:+0100
TZOFFSETTO:+0200
TZNAME:CEST
DTSTART:20210328T010000
END:DAYLIGHT
BEGIN:STANDARD
TZOFFSETFROM:+0200
TZOFFSETTO:+0100
TZNAME:CET
DTSTART:20211031T010000
END:STANDARD
END:VTIMEZONE
BEGIN:VEVENT
DTSTART;TZID=Europe/Paris:20211212T143000
DTEND;TZID=Europe/Paris:20211212T180000
DTSTAMP:20260424T135335
CREATED:20210819T133842Z
LAST-MODIFIED:20210819T134243Z
UID:1661-1639319400-1639332000@encrepoetique.fr
SUMMARY:Stage Paris 12/12/21
DESCRIPTION:Stage de décembre 2021\, ouvert à tous\, au Dojo Zen de Paris\, 175 rue de Tolbiac 75013 Paris\,  au réfectoire\, second étage.Le déroulement des stages est décrit dans la page Stages.Les pinceaux sont prêtés\, les consommables (encre\, papier) sont inclus dans le prix.Utilisez le formulaire de Contact pour vous inscrire.vous êtes accueilli.e avec un café à partir de 14 heures.Il est possible de participer à zazen à 11 heures au Dojo\, précisez-le moi au moment de l’inscription. Participation aux frais à régler au Dojo : 6 €.Le nombre de places est limité\, l’inscription est validée à réception d’un acompte de 20€ (coordonnées ou IBAN ou compte PayPal fournis en réponse à l’inscription).
URL:http://encrepoetique.fr/evenement/stage-paris-12-12-21/
LOCATION:Dojo Zen de Paris\, 175\, rue de Tolbiac\, Paris\, 75013\, France
CATEGORIES:Stage
GEO:48.825853;2.353195
X-APPLE-STRUCTURED-LOCATION;VALUE=URI;X-ADDRESS=Dojo Zen de Paris 175 rue de Tolbiac Paris 75013 France;X-APPLE-RADIUS=500;X-TITLE=175\, rue de Tolbiac:geo:2.353195,48.825853
END:VEVENT
END:VCALENDAR