BEGIN:VCALENDAR
VERSION:2.0
PRODID:-//l&#039;Encre Poétique - ECPv5.12.2//NONSGML v1.0//EN
CALSCALE:GREGORIAN
METHOD:PUBLISH
X-WR-CALNAME:l&#039;Encre Poétique
X-ORIGINAL-URL:http://encrepoetique.fr
X-WR-CALDESC:évènements pour l&#039;Encre Poétique
REFRESH-INTERVAL;VALUE=DURATION:PT1H
X-Robots-Tag:noindex
X-PUBLISHED-TTL:PT1H
BEGIN:VTIMEZONE
TZID:Europe/Paris
BEGIN:DAYLIGHT
TZOFFSETFROM:+0100
TZOFFSETTO:+0200
TZNAME:CEST
DTSTART:20210328T010000
END:DAYLIGHT
BEGIN:STANDARD
TZOFFSETFROM:+0200
TZOFFSETTO:+0100
TZNAME:CET
DTSTART:20211031T010000
END:STANDARD
END:VTIMEZONE
BEGIN:VEVENT
DTSTART;TZID=Europe/Paris:20210626T173000
DTEND;TZID=Europe/Paris:20210626T200000
DTSTAMP:20260425T015027
CREATED:20210501T104512Z
LAST-MODIFIED:20210501T104610Z
UID:1551-1624728600-1624737600@encrepoetique.fr
SUMMARY:Atelier-conférence Versailles 26/06/21
DESCRIPTION:Cliquez pour télécharger le flyer.\nAtelier pratique et théorique pour développer le Geste en peinture\, le 4e weekend de juin\, initialement prévu en avril. \nLa composition dans la peinture japonaise traditionnelle\nLes points essentiels de la composition dans la peinture traditionnelle chinoise et japonaise entretiennent des liens avec ceux de la peinture occidentale (organisation générale\, directions et lignes de force\, répartition des éléments avec plus ou moins de densité\, centrés ou décentrés…) mais ouvrent à d’autres notions comme le Vide. C’est par le Vide que le Plein parvient à manifester sa vraie plénitude. Le Vide confère au tableau cette unité où toutes choses respirent comme dans une structure organique. De même\, les diverses inscriptions (titre\, poème\, seau du peintre…) calligraphiées dans des styles différents et positionnées de façon choisie donnent vie à la peinture. \nLors de l’atelier pratique et théorique\, des exercices à l’encre orientés sur des notions liées à la composition favoriseront des prises de conscience ainsi que l’analyse de peintures de sumi-e.  \nFrançoise Rocher est professeure agrégée d’Arts Plastiques à l’Université de Strasbourg\, chargée de la formation des futurs enseignants dans le domaine des arts plastiques et de l’approche des œuvres d’art. \nLe déroulement de l’atelier est décrit dans la page Cours.\nUtilisez le formulaire de Contact pour vous inscrire (voir la page Contact du menu).
URL:http://encrepoetique.fr/evenement/atelier-conference-versailles-26-06-21/
LOCATION:Atelier d’Alain\, 2T rue de Savoie\, Versailles\, 78000\, France
CATEGORIES:Conférence,Cours
ORGANIZER;CN="Les%20Ateliers%20de%20l%27Encre%20Po%C3%A9tique":MAILTO:Ateliers@encrepoetique.fr
GEO:48.8110666;2.1252574
X-APPLE-STRUCTURED-LOCATION;VALUE=URI;X-ADDRESS=Atelier d’Alain 2T rue de Savoie Versailles 78000 France;X-APPLE-RADIUS=500;X-TITLE=2T rue de Savoie:geo:2.1252574,48.8110666
END:VEVENT
END:VCALENDAR