BEGIN:VCALENDAR
VERSION:2.0
PRODID:-//l&#039;Encre Poétique - ECPv5.12.2//NONSGML v1.0//EN
CALSCALE:GREGORIAN
METHOD:PUBLISH
X-WR-CALNAME:l&#039;Encre Poétique
X-ORIGINAL-URL:http://encrepoetique.fr
X-WR-CALDESC:évènements pour l&#039;Encre Poétique
REFRESH-INTERVAL;VALUE=DURATION:PT1H
X-Robots-Tag:noindex
X-PUBLISHED-TTL:PT1H
BEGIN:VTIMEZONE
TZID:Europe/Paris
BEGIN:DAYLIGHT
TZOFFSETFROM:+0100
TZOFFSETTO:+0200
TZNAME:CEST
DTSTART:20180325T010000
END:DAYLIGHT
BEGIN:STANDARD
TZOFFSETFROM:+0200
TZOFFSETTO:+0100
TZNAME:CET
DTSTART:20181028T010000
END:STANDARD
END:VTIMEZONE
BEGIN:VEVENT
DTSTART;TZID=Europe/Paris:20180106T150000
DTEND;TZID=Europe/Paris:20180106T180000
DTSTAMP:20260420T220340
CREATED:20171212T114458Z
LAST-MODIFIED:20171212T121034Z
UID:220-1515250800-1515261600@encrepoetique.fr
SUMMARY:Atelier Rueil 06/01/18
DESCRIPTION:Atelier mensuel de 3h ouvert à tous
URL:http://encrepoetique.fr/evenement/atelier-rueil-060118/
LOCATION:Salle Equilibre\, 11 avenue Georges Clémenceau\, Rueil-Malmaison\, 92500\, France
CATEGORIES:Cours
GEO:48.8785707;2.1806717
X-APPLE-STRUCTURED-LOCATION;VALUE=URI;X-ADDRESS=Salle Equilibre 11 avenue Georges Clémenceau Rueil-Malmaison 92500 France;X-APPLE-RADIUS=500;X-TITLE=11 avenue Georges Clémenceau:geo:2.1806717,48.8785707
END:VEVENT
BEGIN:VEVENT
DTSTART;TZID=Europe/Paris:20180218T150000
DTEND;TZID=Europe/Paris:20180218T180000
DTSTAMP:20260420T220340
CREATED:20171212T120103Z
LAST-MODIFIED:20180125T115255Z
UID:223-1518966000-1518976800@encrepoetique.fr
SUMMARY:Atelier Rueil 18/02/18
DESCRIPTION:Atelier mensuel de 3h ouvert à tous.\nLe déroulement de l’atelier est décrit dans la page Cours.\nUtilisez le formulaire de Contact pour vous inscrire.
URL:http://encrepoetique.fr/evenement/atelier-rueil-180218/
LOCATION:Salle Equilibre\, 11 avenue Georges Clémenceau\, Rueil-Malmaison\, 92500\, France
CATEGORIES:Cours
GEO:48.8785707;2.1806717
X-APPLE-STRUCTURED-LOCATION;VALUE=URI;X-ADDRESS=Salle Equilibre 11 avenue Georges Clémenceau Rueil-Malmaison 92500 France;X-APPLE-RADIUS=500;X-TITLE=11 avenue Georges Clémenceau:geo:2.1806717,48.8785707
END:VEVENT
BEGIN:VEVENT
DTSTART;TZID=Europe/Paris:20180317T150000
DTEND;TZID=Europe/Paris:20180317T170000
DTSTAMP:20260420T220340
CREATED:20171212T120212Z
LAST-MODIFIED:20180125T115752Z
UID:225-1521298800-1521306000@encrepoetique.fr
SUMMARY:Atelier Rueil 17/03/18
DESCRIPTION:Atelier mensuel de 3h ouvert à tous.\nLe déroulement de l’atelier est décrit dans la page Cours.\nUtilisez le formulaire de Contact pour vous inscrire.
URL:http://encrepoetique.fr/evenement/atelier-rueil-170318/
LOCATION:Salle Equilibre\, 11 avenue Georges Clémenceau\, Rueil-Malmaison\, 92500\, France
CATEGORIES:Cours
GEO:48.8785707;2.1806717
X-APPLE-STRUCTURED-LOCATION;VALUE=URI;X-ADDRESS=Salle Equilibre 11 avenue Georges Clémenceau Rueil-Malmaison 92500 France;X-APPLE-RADIUS=500;X-TITLE=11 avenue Georges Clémenceau:geo:2.1806717,48.8785707
END:VEVENT
BEGIN:VEVENT
DTSTART;TZID=Europe/Paris:20180408T150000
DTEND;TZID=Europe/Paris:20180408T180000
DTSTAMP:20260420T220340
CREATED:20171212T120332Z
LAST-MODIFIED:20180408T124834Z
UID:227-1523199600-1523210400@encrepoetique.fr
SUMMARY:Atelier Rueil 08/04/18
DESCRIPTION:Atelier annulé. \nAtelier mensuel de 3h ouvert à tous.\nLe déroulement de l’atelier est décrit dans la page Cours.\nUtilisez le formulaire de Contact pour vous inscrire.
URL:http://encrepoetique.fr/evenement/atelier-rueil-080418/
LOCATION:Salle Equilibre\, 11 avenue Georges Clémenceau\, Rueil-Malmaison\, 92500\, France
CATEGORIES:Cours
GEO:48.8785707;2.1806717
X-APPLE-STRUCTURED-LOCATION;VALUE=URI;X-ADDRESS=Salle Equilibre 11 avenue Georges Clémenceau Rueil-Malmaison 92500 France;X-APPLE-RADIUS=500;X-TITLE=11 avenue Georges Clémenceau:geo:2.1806717,48.8785707
END:VEVENT
BEGIN:VEVENT
DTSTART;TZID=Europe/Paris:20180527T150000
DTEND;TZID=Europe/Paris:20180527T180000
DTSTAMP:20260420T220340
CREATED:20180509T170440Z
LAST-MODIFIED:20180526T185435Z
UID:495-1527433200-1527444000@encrepoetique.fr
SUMMARY:Atelier Rueil 27/05/18
DESCRIPTION:Atelier mensuel de 3h ouvert à tous. Annulé.\nLe déroulement de l’atelier est décrit dans la page Cours.\nUtilisez le formulaire de Contact pour vous inscrire.
URL:http://encrepoetique.fr/evenement/atelier-rueil-27-05-18/
LOCATION:Salle Equilibre\, 11 avenue Georges Clémenceau\, Rueil-Malmaison\, 92500\, France
CATEGORIES:Cours
GEO:48.8785707;2.1806717
X-APPLE-STRUCTURED-LOCATION;VALUE=URI;X-ADDRESS=Salle Equilibre 11 avenue Georges Clémenceau Rueil-Malmaison 92500 France;X-APPLE-RADIUS=500;X-TITLE=11 avenue Georges Clémenceau:geo:2.1806717,48.8785707
END:VEVENT
END:VCALENDAR